BEGIN:VCALENDAR
VERSION:2.0
PRODID:-//FAHRERAKADEMIE Paderborn - FAHRLEHRER FACHSCHULE Paderborn - ECPv6.15.20//NONSGML v1.0//EN
CALSCALE:GREGORIAN
METHOD:PUBLISH
X-ORIGINAL-URL:https://www.fahrerakademie.de
X-WR-CALDESC:Veranstaltungen für FAHRERAKADEMIE Paderborn - FAHRLEHRER FACHSCHULE Paderborn
REFRESH-INTERVAL;VALUE=DURATION:PT1H
X-Robots-Tag:noindex
X-PUBLISHED-TTL:PT1H
BEGIN:VTIMEZONE
TZID:Europe/Berlin
BEGIN:DAYLIGHT
TZOFFSETFROM:+0100
TZOFFSETTO:+0200
TZNAME:CEST
DTSTART:20220327T010000
END:DAYLIGHT
BEGIN:STANDARD
TZOFFSETFROM:+0200
TZOFFSETTO:+0100
TZNAME:CET
DTSTART:20221030T010000
END:STANDARD
BEGIN:DAYLIGHT
TZOFFSETFROM:+0100
TZOFFSETTO:+0200
TZNAME:CEST
DTSTART:20230326T010000
END:DAYLIGHT
BEGIN:STANDARD
TZOFFSETFROM:+0200
TZOFFSETTO:+0100
TZNAME:CET
DTSTART:20231029T010000
END:STANDARD
BEGIN:DAYLIGHT
TZOFFSETFROM:+0100
TZOFFSETTO:+0200
TZNAME:CEST
DTSTART:20240331T010000
END:DAYLIGHT
BEGIN:STANDARD
TZOFFSETFROM:+0200
TZOFFSETTO:+0100
TZNAME:CET
DTSTART:20241027T010000
END:STANDARD
BEGIN:DAYLIGHT
TZOFFSETFROM:+0100
TZOFFSETTO:+0200
TZNAME:CEST
DTSTART:20250330T010000
END:DAYLIGHT
BEGIN:STANDARD
TZOFFSETFROM:+0200
TZOFFSETTO:+0100
TZNAME:CET
DTSTART:20251026T010000
END:STANDARD
BEGIN:DAYLIGHT
TZOFFSETFROM:+0100
TZOFFSETTO:+0200
TZNAME:CEST
DTSTART:20260329T010000
END:DAYLIGHT
BEGIN:STANDARD
TZOFFSETFROM:+0200
TZOFFSETTO:+0100
TZNAME:CET
DTSTART:20261025T010000
END:STANDARD
BEGIN:DAYLIGHT
TZOFFSETFROM:+0100
TZOFFSETTO:+0200
TZNAME:CEST
DTSTART:20270328T010000
END:DAYLIGHT
BEGIN:STANDARD
TZOFFSETFROM:+0200
TZOFFSETTO:+0100
TZNAME:CET
DTSTART:20271031T010000
END:STANDARD
END:VTIMEZONE
BEGIN:VEVENT
DTSTART;TZID=Europe/Berlin:20260228T080000
DTEND;TZID=Europe/Berlin:20260228T153000
DTSTAMP:20260424T175527
CREATED:20260220T065110Z
LAST-MODIFIED:20260220T065406Z
UID:1233-1772265600-1772292600@www.fahrerakademie.de
SUMMARY:Weiterbildung am 28.02.2026
DESCRIPTION:Kenntnisbereich 1.2\nKenntnis der technischen Merkmale und der Funktionsweise der Sicherheitsausstattung\, um das Fahrzeug zu beherrschen\, seinen Verschleiß möglichst gering zu halten und Fehlfunktionen vorzubeugen \n  \n 
URL:https://www.fahrerakademie.de/event/samstags-weiterbildung-28-02-2026/
LOCATION:Fahrerakademie Paderborn\, Borchener Str. 338 b\, Paderborn\, NRW\, 33106\, Deutschland
ORGANIZER;CN="Fahrerakademie Paderborn":MAILTO:info@fahrerakademie.de
END:VEVENT
BEGIN:VEVENT
DTSTART;TZID=Europe/Berlin:20250830T080000
DTEND;TZID=Europe/Berlin:20250830T153000
DTSTAMP:20260424T175527
CREATED:20240104T100019Z
LAST-MODIFIED:20250728T095141Z
UID:1032-1756540800-1756567800@www.fahrerakademie.de
SUMMARY:Weiterbildung am 30.08.2025
DESCRIPTION:Kenntnisbereich 2.1\nQuelle: Patrick Seidler\, https://creativecommons.org/licenses/by-sa/3.0/de/legalcode\nSozialrechtliche Rahmenbedingungen und Vorschriften für den Güterkraft- oder Personenverkehr\,\ninsbesondere: höchstzulässige Arbeitszeiten in der Verkehrsbranche; Grundsätze\, Anwendung und Auswirkungen der Verordnungen (EWG) Nr. 3820/85 und Nr. 3821/85; \nSanktionen für den Fall\, dass der Fahrtenschreiber nicht benutzt\, falsch benutzt oder verfälscht wird;\nKenntnis der sozialrechtlichen Rahmenbedingungen für den Güterkraft- oder Personenverkehr: \nRechte und Pflichten der Fahrerinnen und Fahrer von Kraftfahrzeugen im Bereich der Grundqualifikation und der Weiterbildung. \n 
URL:https://www.fahrerakademie.de/event/wb-30-08-2025-2-1/
LOCATION:Fahrerakademie Paderborn\, Borchener Str. 338 b\, Paderborn\, NRW\, 33106\, Deutschland
END:VEVENT
BEGIN:VEVENT
DTSTART;TZID=Europe/Berlin:20250823T080000
DTEND;TZID=Europe/Berlin:20250823T153000
DTSTAMP:20260424T175527
CREATED:20240514T073341Z
LAST-MODIFIED:20250728T095323Z
UID:1137-1755936000-1755963000@www.fahrerakademie.de
SUMMARY:Weiterbildung am 23.08.2025
DESCRIPTION:Kenntnisbereich 3.1\nSensibilisierung in Bezug auf Risiken des Straßenverkehrs und Arbeitsunfälle\, insbesondere: \n\n– Typologie der Arbeitsunfälle in der Verkehrsbranche\,\n– Verkehrsunfallstatistiken\,\n– Beteiligung von Lastkraftwagen/Bussen und\n– menschliche\, materielle und finanzielle Auswirkungen.
URL:https://www.fahrerakademie.de/event/sa-wb-23-08-25-3-1/
LOCATION:Fahrerakademie Paderborn\, Borchener Str. 338 b\, Paderborn\, NRW\, 33106\, Deutschland
ORGANIZER;CN="Fahrerakademie Paderborn":MAILTO:info@fahrerakademie.de
END:VEVENT
BEGIN:VEVENT
DTSTART;TZID=Europe/Berlin:20250802T080000
DTEND;TZID=Europe/Berlin:20250802T153000
DTSTAMP:20260424T175527
CREATED:20240528T134540Z
LAST-MODIFIED:20250728T094351Z
UID:1145-1754121600-1754148600@www.fahrerakademie.de
SUMMARY:Weiterbildung am 02.08.2025
DESCRIPTION:Kenntnisbereiche: 3.3/3.4\n3.3 »Gesundheitsschäden vorbeugen«– Grundsätze der Ergonomie: gesundheitsbedenkliche Bewegungen  und Haltungen\n– physische Kondition\n– Übungen für den Umgang mit Lasten und\n– individueller Schutz \n3.4 »Bedeutung einer guten körperlichen und geistigen Verfassung«\n– Grundsätze einer gesunden und ausgewogenen Ernährung\n– Auswirkungen von Alkohol\, Arzneimitteln oder jedem Stoff\, der eine Änderung des Verhaltens bewirken kann\n– Symptome\, Ursachen\, Auswirkungen von Müdigkeit und Stress\n– grundlegende Rolle des Zyklus von Aktivität/Ruhezeit
URL:https://www.fahrerakademie.de/event/sa-wb-02-08-2025-3-3-3-4/
LOCATION:Fahrerakademie Paderborn\, Borchener Str. 338 b\, Paderborn\, NRW\, 33106\, Deutschland
END:VEVENT
BEGIN:VEVENT
DTSTART;TZID=Europe/Berlin:20250719T080000
DTEND;TZID=Europe/Berlin:20250719T153000
DTSTAMP:20260424T175527
CREATED:20240710T064750Z
LAST-MODIFIED:20250527T110731Z
UID:1170-1752912000-1752939000@www.fahrerakademie.de
SUMMARY:Samstags-Weiterbildung | 19. Juli
DESCRIPTION:Kenntnisbereich 2.1\nSozialrechtliche Rahmenbedingungen und Vorschriften für den Güterkraft- und Personenverkehr \n– höchstzulässige Arbeitszeiten in der Verkehrsbranche; Grundsätze \n– Anwendung und Auswirkungen der Verordnungen (EWG) Nr. 3820/85 und Nr. 3821/85 \n– Sanktionen für den Fall\, dass der Fahrtenschreiber nicht benutzt\, falsch benutzt oder verfälscht wird \n– Kenntnis der sozialrechtlichen Rahmenbedingungen für den Güterkraft- und Personenverkehr: Rechte und Pflichten der Fahrerinnen und Fahrer von Kraftfahrzeugen im Bereich der Grundqualifikation und der Weiterbildung
URL:https://www.fahrerakademie.de/event/samstags-weiterbildung-19-07-2025/
LOCATION:Fahrerakademie Paderborn\, Borchener Str. 338 b\, Paderborn\, NRW\, 33106\, Deutschland
ORGANIZER;CN="Fahrerakademie Paderborn":MAILTO:info@fahrerakademie.de
END:VEVENT
BEGIN:VEVENT
DTSTART;TZID=Europe/Berlin:20250712T080000
DTEND;TZID=Europe/Berlin:20250712T153000
DTSTAMP:20260424T175527
CREATED:20240506T130939Z
LAST-MODIFIED:20250527T102829Z
UID:1132-1752307200-1752334200@www.fahrerakademie.de
SUMMARY:Samstags-Weiterbildung | 12. Juli
DESCRIPTION:Kenntnisbereich 1.3a \nFähigkeit\, Risiken im Straßenverkehr vorherzusehen\, zu bewerten und sich daran anzupassen\, insbesondere: \n\n– sich unterschiedlicher Straßen-\, Verkehrs- und Witterungsbedingungen bewusst sein und sich daran anpassen\,\n– künftige Ereignisse vorhersehen\,\n– ermessen\, welche Vorkehrungen für eine Fahrt bei außergewöhnlichen Witterungsbedingungen getroffen werden müssen\,\n– die Verwendung der damit verbundenen Sicherheitsausrüstung beherrschen und sich bewusst machen\, wann eine Fahrt aufgrund extremer Witterungsbedingungen verschoben oder abgesagt werden muss\,\n– sich an Verkehrsrisiken anpassen\, einschließlich gefährlicher Verhaltensweisen im Verkehr oder Ablenkung beim Fahren (durch die Nutzung elektronischer Geräte\, Nahrungs- und Getränkeaufnahme usw.)\,\n– Gefahrensituationen erkennen\, sich daran anpassen und den damit verbundenen Stress bewältigen\, vor allem in Bezug auf Größe und Gewicht des Fahrzeugs und auf schwächere Verkehrsteilnehmer\, beispielsweise Fußgänger\, Radfahrer und motorisierte Zweiräder\, und\n– mögliche Gefahrensituationen erkennen und korrekte Schlüsse ziehen\, wie aus dieser potenziell gefährlichen Lage Situationen entstehen können\, in denen Unfälle möglicherweise nicht mehr vermieden werden können\, sowie Maßnahmen auswählen und durchführen\, durch die die Sicherheitsabstände so erhöht werden\, dass ein Unfall noch vermieden werden kann\, falls die potenziellen Gefahren auftreten sollten.\n\n  \n 
URL:https://www.fahrerakademie.de/event/samstags-weiterbildung-12-07-2025/
LOCATION:NRW
END:VEVENT
BEGIN:VEVENT
DTSTART;TZID=Europe/Berlin:20250628T080000
DTEND;TZID=Europe/Berlin:20250628T153000
DTSTAMP:20260424T175527
CREATED:20240710T065436Z
LAST-MODIFIED:20250527T102741Z
UID:1175-1751097600-1751124600@www.fahrerakademie.de
SUMMARY:Samstags-Weiterbildung | 28. Juni
DESCRIPTION:Kenntnisbereich 3.6\nVerhalten\, das zu einem positiven Image des Unternehmens beiträgt \n– Verhalten des Kraftfahrers und Ansehen des Unternehmens: Bedeutung der Qualität der Leistung des Kraftfahrers für das Unternehmen \n– unterschiedliche Rollen des Kraftfahrers \n– unterschiedliche Gesprächspartner des Kraftfahrers \n– Wartung des Fahrzeugs \n– Arbeitsorganisation \n– kommerzielle und finanzielle Konsequenzen eines Rechtsstreits
URL:https://www.fahrerakademie.de/event/samstags-weiterbildung-28-06-25/
LOCATION:Fahrerakademie Paderborn\, Borchener Str. 338 b\, Paderborn\, NRW\, 33106\, Deutschland
ORGANIZER;CN="Fahrerakademie Paderborn":MAILTO:info@fahrerakademie.de
END:VEVENT
BEGIN:VEVENT
DTSTART;TZID=Europe/Berlin:20250614T080000
DTEND;TZID=Europe/Berlin:20250614T153000
DTSTAMP:20260424T175527
CREATED:20240710T070204Z
LAST-MODIFIED:20250527T102640Z
UID:1178-1749888000-1749915000@www.fahrerakademie.de
SUMMARY:Samstags-Weiterbildung | 14. Juni
DESCRIPTION:Kenntnisbereich 2.1\nSozialrechtliche Rahmenbedingungen und Vorschriften für den Güterkraft- und Personenverkehr \n– höchstzulässige Arbeitszeiten in der Verkehrsbranche; Grundsätze \n– Anwendung und Auswirkungen der Verordnungen (EWG) Nr. 3820/85 und Nr. 3821/85 \n– Sanktionen für den Fall\, dass der Fahrtenschreiber nicht benutzt\, falsch benutzt oder verfälscht wird \n– Kenntnis der sozialrechtlichen Rahmenbedingungen für den Güterkraft- und Personenverkehr: Rechte und Pflichten der Fahrerinnen und Fahrer von Kraftfahrzeugen im Bereich der Grundqualifikation und der Weiterbildung
URL:https://www.fahrerakademie.de/event/samstags-weiterbildung-14-06-25/
LOCATION:Fahrerakademie Paderborn\, Borchener Str. 338 b\, Paderborn\, NRW\, 33106\, Deutschland
ORGANIZER;CN="Fahrerakademie Paderborn":MAILTO:info@fahrerakademie.de
END:VEVENT
BEGIN:VEVENT
DTSTART;TZID=Europe/Berlin:20250524T080000
DTEND;TZID=Europe/Berlin:20250524T153000
DTSTAMP:20260424T175527
CREATED:20230726T104029Z
LAST-MODIFIED:20250314T083551Z
UID:808-1748073600-1748100600@www.fahrerakademie.de
SUMMARY:Samstags-Weiterbildung 24. Mai
DESCRIPTION:Kenntnisbereiche 3.2/3.5\n3.2 Fähigkeit\, der Kriminalität und der Schleusung illegaler Einwanderer vorzubeugen\, insbesondere: \n\nallgemeine Informationen\nFolgen für die Kraftfahrer\nVorbeugungsmaßnahmen\nCheckliste für Überprüfungen und\nRechtsvorschriften betreffend die Verantwortung der Kraftverkehrsunternehmer\n\n3.5 Verhalten in Notfällen: \n\nEinschätzung der Lage\nVermeidung von Nachfolgeunfällen\nVerständigung der Hilfskräfte\nBergung von Verletzten und Leistung erster Hilfe\nReaktion bei Brand\nEvakuierung von Bussen und Lastkraftwagen\nGewährleistung der Sicherheit aller Fahrgäste\nVorgehen bei Gewalttaten\nGrundprinzipien für die Erstellung der einvernehmlichen Unfallmeldung\n\n 
URL:https://www.fahrerakademie.de/event/samstags-weiterbildung-24-05/
LOCATION:Fahrerakademie Paderborn\, Borchener Str. 338 b\, Paderborn\, NRW\, 33106\, Deutschland
ORGANIZER;CN="Fahrerakademie Paderborn":MAILTO:info@fahrerakademie.de
END:VEVENT
BEGIN:VEVENT
DTSTART;TZID=Europe/Berlin:20250510T080000
DTEND;TZID=Europe/Berlin:20250510T153000
DTSTAMP:20260424T175527
CREATED:20240104T093917Z
LAST-MODIFIED:20250314T074934Z
UID:1025-1746864000-1746891000@www.fahrerakademie.de
SUMMARY:Samstags-Weiterbildung 10. Mai
DESCRIPTION:Kenntnisbereich 1.3a\nFähigkeit\, Risiken im Straßenverkehr vorherzusehen\, zu bewerten und sich daran anzupassen
URL:https://www.fahrerakademie.de/event/samstags-weiterbildung-10-05/
LOCATION:Fahrerakademie Paderborn\, Borchener Str. 338 b\, Paderborn\, NRW\, 33106\, Deutschland
ORGANIZER;CN="Fahrerakademie Paderborn":MAILTO:info@fahrerakademie.de
END:VEVENT
BEGIN:VEVENT
DTSTART;TZID=Europe/Berlin:20250412T080000
DTEND;TZID=Europe/Berlin:20250412T153000
DTSTAMP:20260424T175527
CREATED:20230822T113006Z
LAST-MODIFIED:20250212T120231Z
UID:852-1744444800-1744471800@www.fahrerakademie.de
SUMMARY:Samstags-Weiterbildung April
DESCRIPTION:Kenntnisbereich 3.6\nFähigkeit zu einem Verhalten\, das zu einem positiven Bild des Unternehmens in der Öffentlichkeit beiträgt\, insbesondere: \nVerhalten des Fahrers und Ansehen des Unternehmens: \nBedeutung der Qualität der Leistung der Fahrerin oder des Fahrers von Kraftfahrzeugen für das Unternehmen\, unterschiedliche Rollen der Fahrerin oder des Fahrers von Kraftfahrzeugen\, unterschiedliche Gesprächspartner der Fahrerin oder des Fahrers von Kraftfahrzeugen\, \nWartung des Fahrzeugs\, Arbeitsorganisation\, kommerzielle und finanzielle Konsequenzen eines Rechtsstreits.
URL:https://www.fahrerakademie.de/event/samstags-weiterbildung-april/
LOCATION:Fahrerakademie Paderborn\, Borchener Str. 338 b\, Paderborn\, NRW\, 33106\, Deutschland
ORGANIZER;CN="Fahrerakademie Paderborn":MAILTO:info@fahrerakademie.de
END:VEVENT
BEGIN:VEVENT
DTSTART;TZID=Europe/Berlin:20250315T080000
DTEND;TZID=Europe/Berlin:20250315T080000
DTSTAMP:20260424T175527
CREATED:20250314T095854Z
LAST-MODIFIED:20250314T095957Z
UID:1329-1742025600-1742025600@www.fahrerakademie.de
SUMMARY:Samstags-Weiterbildung 15. März
DESCRIPTION:Kenntnisbereich 2.1\nQuelle: Patrick Seidler\, https://creativecommons.org/licenses/by-sa/3.0/de/legalcode \nSozialrechtliche Rahmenbedingungen und Vorschriften für den Güterkraft- oder Personenverkehr\,\ninsbesondere: höchstzulässige Arbeitszeiten in der Verkehrsbranche; Grundsätze\, Anwendung und Auswirkungen der Verordnungen (EWG) Nr. 3820/85 und Nr. 3821/85; \nSanktionen für den Fall\, dass der Fahrtenschreiber nicht benutzt\, falsch benutzt oder verfälscht wird;\nKenntnis der sozialrechtlichen Rahmenbedingungen für den Güterkraft- oder Personenverkehr: \nRechte und Pflichten der Fahrerinnen und Fahrer von Kraftfahrzeugen im Bereich der Grundqualifikation und der Weiterbildung.
URL:https://www.fahrerakademie.de/event/samstags-weiterbildung-15-03/
LOCATION:Fahrerakademie Paderborn\, Borchener Str. 338 b\, Paderborn\, NRW\, 33106\, Deutschland
ORGANIZER;CN="Fahrerakademie Paderborn":MAILTO:info@fahrerakademie.de
END:VEVENT
BEGIN:VEVENT
DTSTART;TZID=Europe/Berlin:20250310T083000
DTEND;TZID=Europe/Berlin:20250312T160000
DTSTAMP:20260424T175527
CREATED:20250107T154652Z
LAST-MODIFIED:20250107T154652Z
UID:1255-1741595400-1741795200@www.fahrerakademie.de
SUMMARY:Fahrlehrer Fortbildung § 53 Abs. 1 FahrlG 3 Tage
DESCRIPTION:
URL:https://www.fahrerakademie.de/event/fahrlehrer-fortbildung-53-abs-1-fahrlg-3-tage/
LOCATION:Fahrlehrer Fachschule Paderborn\, Breslauerstr. 15\, Paderborn\, 33098\, Germany
ORGANIZER;CN="Fahrlehrer Fachschule Paderborn":MAILTO:fahrlehrer@sbh-west.de
END:VEVENT
BEGIN:VEVENT
DTSTART;TZID=Europe/Berlin:20241012T080000
DTEND;TZID=Europe/Berlin:20241012T153000
DTSTAMP:20260424T175527
CREATED:20240710T065241Z
LAST-MODIFIED:20240710T065551Z
UID:1173-1728720000-1728747000@www.fahrerakademie.de
SUMMARY:Samstags-Weiterbildung Oktober
DESCRIPTION:Kenntnisbereich 3.6\nFahrer – Unternehmen\nFähigkeit zu einem Verhalten\, das zu einem positiven Bild des Unternehmens in der Öffentlichkeit beiträgt
URL:https://www.fahrerakademie.de/event/samstags-weiterbildung-oktober/
LOCATION:Fahrerakademie Paderborn\, Borchener Str. 338 b\, Paderborn\, NRW\, 33106\, Deutschland
ORGANIZER;CN="Fahrerakademie Paderborn":MAILTO:info@fahrerakademie.de
END:VEVENT
BEGIN:VEVENT
DTSTART;TZID=Europe/Berlin:20240608T080000
DTEND;TZID=Europe/Berlin:20240608T153000
DTSTAMP:20260424T175527
CREATED:20240215T104151Z
LAST-MODIFIED:20240506T130428Z
UID:1074-1717833600-1717860600@www.fahrerakademie.de
SUMMARY:Samstags-Weiterbildung Juni – AUSGEBUCHT!
DESCRIPTION:AUSGEBUCHT
URL:https://www.fahrerakademie.de/event/samstags-weiterbildung-juni/
LOCATION:NRW
END:VEVENT
BEGIN:VEVENT
DTSTART;TZID=Europe/Berlin:20240525T080000
DTEND;TZID=Europe/Berlin:20240525T153000
DTSTAMP:20260424T175527
CREATED:20240212T111252Z
LAST-MODIFIED:20240318T091620Z
UID:1063-1716624000-1716651000@www.fahrerakademie.de
SUMMARY:Samstags-Weiterbildung Mai – AUSGEBUCHT!
DESCRIPTION:Thema: Eco-Training\nKenntnisbereiche 1.1/1.3\nKenntnis der Eigenschaften der kinematischen Kette für eine optimierte Nutzung\, insbesondere: \nDrehmomentkurven\, Leistungskurven\, spezifische Verbrauchskurven eines Motors\, Optimaler Nutzungsbereich des Drehzahlmessers\, optimaler Drehzahlbereich beim Schalten. \nFähigkeit zur Optimierung des Kraftstoffverbrauchs durch Anwendung der Kenntnisse gem. 1.1 u. 1.2.
URL:https://www.fahrerakademie.de/event/samstags-wb-mai-2024/
LOCATION:Fahrerakademie Paderborn\, Borchener Str. 338 b\, Paderborn\, NRW\, 33106\, Deutschland
END:VEVENT
BEGIN:VEVENT
DTSTART;TZID=Europe/Berlin:20240113T080000
DTEND;TZID=Europe/Berlin:20240113T153000
DTSTAMP:20260424T175527
CREATED:20231127T141657Z
LAST-MODIFIED:20231127T141657Z
UID:955-1705132800-1705159800@www.fahrerakademie.de
SUMMARY:Samstags-Weiterbildung
DESCRIPTION:Kenntnisbereich 3.1 \nRisiken des Straßenverkehrs und Arbeitsunfälle \n\nTypologie der Arbeitsunfälle in der Verkehrsbranche\nVerkehrsunfallstatistiken\nBeteiligung von Lastkraftwagen/Bussen und\nmenschliche\, materielle und finanzielle Auswirkungen\n\nFoto: Taras Makarenko
URL:https://www.fahrerakademie.de/event/samstags-weiterbildung-7/
LOCATION:Fahrerakademie Paderborn\, Borchener Str. 338 b\, Paderborn\, NRW\, 33106\, Deutschland
END:VEVENT
BEGIN:VEVENT
DTSTART;TZID=Europe/Berlin:20231209T080000
DTEND;TZID=Europe/Berlin:20231209T153000
DTSTAMP:20260424T175527
CREATED:20230823T142812Z
LAST-MODIFIED:20231114T073601Z
UID:870-1702108800-1702135800@www.fahrerakademie.de
SUMMARY:Samstags-Weiterbildung
DESCRIPTION:Themen: Kenntnisbereiche 1.1 & 1.3\n1.1 Eigenschaften der kinematischen Kette für eine optimierte Nutzung\n– Drehmomentkurven\n– Leistungskurven\n– spezifische Verbrauchskurven eines Motors\n– optimaler Nutzungsbereich des Drehzahlmessers\n– optimaler Drehzahlbereich beim Schalten \n1.3 Optimierung des Kraftstoffverbrauchs\n• wirtschaftliche Fahrweise\n• techn. Bauteile\n• Luftfilter\n• Fahrwiderstände\n• Berechnung Kraftstoffverbrauch\n• Eigenschaften des Dieselkraftstoffs
URL:https://www.fahrerakademie.de/event/samstags-weiterbildung-6/
LOCATION:NRW
ORGANIZER;CN="Fahrerakademie Paderborn":MAILTO:info@fahrerakademie.de
END:VEVENT
BEGIN:VEVENT
DTSTART;TZID=Europe/Berlin:20231118T080000
DTEND;TZID=Europe/Berlin:20231118T153000
DTSTAMP:20260424T175527
CREATED:20230823T142043Z
LAST-MODIFIED:20231114T073732Z
UID:865-1700294400-1700321400@www.fahrerakademie.de
SUMMARY:Samstags-Weiterbildung – ausgebucht!
DESCRIPTION:Thema: Kenntnisbereich 2.1\nSozialrechtliche Rahmenbedingungen und Vorschriften für den Güterkraft- und Personenverkehr\n– höchstzulässige Arbeitszeiten in der\nVerkehrsbranche; Grundsätze\n– Anwendung und Auswirkungen der Verordnungen (EWG) Nr. 3820/85 und Nr. 3821/85\n– Sanktionen für den Fall\, dass der Fahrtenschreiber nicht benutzt\, falsch benutzt oder verfälscht wird\n– Kenntnis der sozialrechtlichen Rahmenbedingungen für den Güterkraft- und Personenverkehr: Rechte und Pflichten der Fahrerinnen und Fahrer von Kraftfahrzeugen im Bereich der Grundqualifikation und der Weiterbildung
URL:https://www.fahrerakademie.de/event/samstags-weiterbildung-4/
LOCATION:Fahrerakademie Paderborn\, Borchener Str. 338 b\, Paderborn\, NRW\, 33106\, Deutschland
ORGANIZER;CN="Fahrerakademie Paderborn":MAILTO:info@fahrerakademie.de
END:VEVENT
BEGIN:VEVENT
DTSTART;TZID=Europe/Berlin:20231021T080000
DTEND;TZID=Europe/Berlin:20231021T153000
DTSTAMP:20260424T175527
CREATED:20230823T134848Z
LAST-MODIFIED:20230823T135643Z
UID:858-1697875200-1697902200@www.fahrerakademie.de
SUMMARY:Samstags-Weiterbildung
DESCRIPTION:Thema:  Kenntnisbereich 1.3a\nRisiken im Straßenverkehr vorhersehen\, bewerten und sich daran anpassen \n• sich unterschiedlicher Straßen-\, Verkehrs- und Witterungsbedingungen bewusst sein und sich daran anpassen\n• künftige Ereignisse vorhersehen\n• Gefahren erkennen und damit umgehen \n 
URL:https://www.fahrerakademie.de/event/samstags-weiterbildung-3/
LOCATION:Fahrerakademie Paderborn\, Borchener Str. 338 b\, Paderborn\, NRW\, 33106\, Deutschland
ORGANIZER;CN="Fahrerakademie Paderborn":MAILTO:info@fahrerakademie.de
END:VEVENT
BEGIN:VEVENT
DTSTART;TZID=Europe/Berlin:20230823T080000
DTEND;TZID=Europe/Berlin:20230823T170000
DTSTAMP:20260424T175527
CREATED:20230823T142327Z
LAST-MODIFIED:20230823T142327Z
UID:868-1692777600-1692810000@www.fahrerakademie.de
SUMMARY:Samstags-Weiterbildung
DESCRIPTION:Thema: Kenntnisbereiche 1.1 & 1.3\n1.1 Eigenschaften der kinematischen Kette für eine optimierte Nutzung\n– Drehmomentkurven\n– Leistungskurven\n– spezifische Verbrauchskurven eines Motors\n– optimaler Nutzungsbereich des Drehzahlmessers\n– optimaler Drehzahlbereich beim Schalten \n1.3 Optimierung des Kraftstoffverbrauchs\n• wirtschaftliche Fahrweise\n• techn. Bauteile\n• Luftfilter\n• Fahrwiderstände\n• Berechnung Kraftstoffverbrauch\n• Eigenschaften des Dieselkraftstoffs
URL:https://www.fahrerakademie.de/event/samstags-weiterbildung-5/
LOCATION:NRW
END:VEVENT
BEGIN:VEVENT
DTSTART;TZID=Europe/Berlin:20230808T080000
DTEND;TZID=Europe/Berlin:20230808T153000
DTSTAMP:20260424T175527
CREATED:20230804T090020Z
LAST-MODIFIED:20230804T090020Z
UID:845-1691481600-1691508600@www.fahrerakademie.de
SUMMARY:Weiterbildung für Kraftfahrer
DESCRIPTION:
URL:https://www.fahrerakademie.de/event/weiterbildung-fuer-kraftfahrer-2/
LOCATION:Fahrerakademie Paderborn\, Borchener Str. 338 b\, Paderborn\, NRW\, 33106\, Deutschland
ORGANIZER;CN="Fahrerakademie Paderborn":MAILTO:info@fahrerakademie.de
END:VEVENT
BEGIN:VEVENT
DTSTART;TZID=Europe/Berlin:20230807T080000
DTEND;TZID=Europe/Berlin:20230807T153000
DTSTAMP:20260424T175527
CREATED:20230804T085956Z
LAST-MODIFIED:20230804T085956Z
UID:843-1691395200-1691422200@www.fahrerakademie.de
SUMMARY:Weiterbildung für Kraftfahrer
DESCRIPTION:
URL:https://www.fahrerakademie.de/event/weiterbildung-fuer-kraftfahrer/
LOCATION:Fahrerakademie Paderborn\, Borchener Str. 338 b\, Paderborn\, NRW\, 33106\, Deutschland
ORGANIZER;CN="Fahrerakademie Paderborn":MAILTO:info@fahrerakademie.de
END:VEVENT
BEGIN:VEVENT
DTSTART;TZID=Europe/Berlin:20230801T080000
DTEND;TZID=Europe/Berlin:20230801T153000
DTSTAMP:20260424T175527
CREATED:20230726T111001Z
LAST-MODIFIED:20230726T111227Z
UID:813-1690876800-1690903800@www.fahrerakademie.de
SUMMARY:Weiterbildung
DESCRIPTION:
URL:https://www.fahrerakademie.de/event/weiterbildung-2/
LOCATION:NRW
END:VEVENT
BEGIN:VEVENT
DTSTART;TZID=Europe/Berlin:20230731T080000
DTEND;TZID=Europe/Berlin:20230731T153000
DTSTAMP:20260424T175527
CREATED:20230726T104852Z
LAST-MODIFIED:20230726T110548Z
UID:792-1690790400-1690817400@www.fahrerakademie.de
SUMMARY:Weiterbildung
DESCRIPTION:
URL:https://www.fahrerakademie.de/event/weiterbildung/
LOCATION:NRW
END:VEVENT
END:VCALENDAR